BEGIN:VCALENDAR
VERSION:2.0
PRODID:SchoolNow
CALSCALE:GREGORIAN
BEGIN:VEVENT
UID:5764a438-ca5a-11f0-a645-0affdcfcd8a3
DTSTAMP:20251125T235621Z
SUMMARY:Pancakes\, Applesauce Cups\, Milk
URL;VALUE=URI:https://www.ronank12.edu/departments/food-service/calendar/88
 09961/pancakes-applesauce-cups-milk
DTSTART:20251205T150000Z
DTEND:20251205T153000Z
END:VEVENT
END:VCALENDAR
