BEGIN:VCALENDAR
VERSION:2.0
PRODID:SchoolNow
CALSCALE:GREGORIAN
BEGIN:VEVENT
UID:83968dfa-ca5a-11f0-82eb-0a58a9feac02
DTSTAMP:20251126T172238Z
SUMMARY:Teriyaki Beef Bites\, French Fries\, Carrots\, Pears\, Roll\, Milk
URL;VALUE=URI:https://www.ronank12.edu/departments/food-service/calendar/88
 09962/teriyaki-beef-bites-french-fries-carrots-pears-roll-milk
DTSTART:20251201T173000Z
DTEND:20251201T193000Z
END:VEVENT
END:VCALENDAR
