BEGIN:VCALENDAR
VERSION:2.0
PRODID:SchoolNow
CALSCALE:GREGORIAN
BEGIN:VEVENT
UID:a0bab3ac-ca5a-11f0-ab17-0a58a9feac02
DTSTAMP:20251126T172208Z
SUMMARY:Pulled Pork Sandwich\, Baked Beans\,  Cole Slaw\, Mixed Fruit\, Mil
 k
URL;VALUE=URI:https://www.ronank12.edu/departments/food-service/calendar/88
 09963/pulled-pork-sandwich-baked-beans-cole-slaw-mixed-fruit-milk
DTSTART:20251202T173000Z
DTEND:20251202T193000Z
END:VEVENT
END:VCALENDAR
