BEGIN:VCALENDAR
VERSION:2.0
PRODID:SchoolNow
CALSCALE:GREGORIAN
BEGIN:VEVENT
UID:c154aea6-ca5a-11f0-bf80-0afffbeff069
DTSTAMP:20251126T172351Z
SUMMARY:Open Faced Cheese Sand.\, Tomato Soup\,  Pickle Spear\,  Applesauce
 \,  Milk
URL;VALUE=URI:https://www.ronank12.edu/departments/food-service/calendar/88
 09964/open-faced-cheese-sand-tomato-soup-pickle-spear-applesauce-milk
DTSTART:20251203T173000Z
DTEND:20251203T193000Z
END:VEVENT
END:VCALENDAR
