BEGIN:VCALENDAR
VERSION:2.0
PRODID:SchoolNow
CALSCALE:GREGORIAN
BEGIN:VEVENT
UID:e03bf216-ca5a-11f0-a8b9-0a58a9feac02
DTSTAMP:20251126T172425Z
SUMMARY:Super Nachos\, Tossed Salad\,  Salsa\,  Sliced Apples\, Roll\, Milk
URL;VALUE=URI:https://www.ronank12.edu/departments/food-service/calendar/88
 09965/super-nachos-tossed-salad-salsa-sliced-apples-roll-milk
DTSTART:20251204T173000Z
DTEND:20251204T193000Z
END:VEVENT
END:VCALENDAR
