BEGIN:VCALENDAR
VERSION:2.0
PRODID:SchoolNow
CALSCALE:GREGORIAN
BEGIN:VEVENT
UID:fe17704e-ca5a-11f0-9160-0a58a9feac02
DTSTAMP:20251126T172500Z
SUMMARY:Chicken Patty Sand.\, Smiles\, Green Beans\, Peaches\, Milk
URL;VALUE=URI:https://www.ronank12.edu/departments/food-service/calendar/88
 09966/chicken-patty-sand-smiles-green-beans-peaches-milk
DTSTART:20251205T173000Z
DTEND:20251205T193000Z
END:VEVENT
END:VCALENDAR
