BEGIN:VCALENDAR
VERSION:2.0
PRODID:SchoolNow
CALSCALE:GREGORIAN
BEGIN:VEVENT
UID:4461ba26-cae9-11f0-aaaa-0a58a9feac02
DTSTAMP:20251126T165927Z
SUMMARY:Strawberry Bagels\,  Juice\,  Craisins\, Milk
URL;VALUE=URI:https://www.ronank12.edu/departments/food-service/calendar/88
 10455/strawberry-bagels-juice-craisins-milk
DTSTART:20251208T150000Z
DTEND:20251208T153000Z
END:VEVENT
END:VCALENDAR
