BEGIN:VCALENDAR
VERSION:2.0
PRODID:SchoolNow
CALSCALE:GREGORIAN
BEGIN:VEVENT
UID:59666d68-cae9-11f0-987d-02ea71babd91
DTSTAMP:20251126T170002Z
SUMMARY:Cinnamon Roll\,  Pears\,  Milk
URL;VALUE=URI:https://www.ronank12.edu/departments/food-service/calendar/88
 10456/cinnamon-roll-pears-milk
DTSTART:20251209T150000Z
DTEND:20251209T153000Z
END:VEVENT
END:VCALENDAR
