BEGIN:VCALENDAR
VERSION:2.0
PRODID:SchoolNow
CALSCALE:GREGORIAN
BEGIN:VEVENT
UID:6ea94d1c-cae9-11f0-863d-0a58a9feac02
DTSTAMP:20251126T170038Z
SUMMARY:Cook’s Choice\,  Juice\,  Banana Chips\,  Milk
URL;VALUE=URI:https://www.ronank12.edu/departments/food-service/calendar/88
 10457/cook-s-choice-juice-banana-chips-milk
DTSTART:20251210T150000Z
DTEND:20251210T153000Z
END:VEVENT
END:VCALENDAR
