BEGIN:VCALENDAR
VERSION:2.0
PRODID:SchoolNow
CALSCALE:GREGORIAN
BEGIN:VEVENT
UID:8361e7f0-cae9-11f0-8e4b-0affdcfcd8a3
DTSTAMP:20251126T172642Z
SUMMARY:Cheese Omelet\,  Toast\,  Peaches\,  Milk
URL;VALUE=URI:https://www.ronank12.edu/departments/food-service/calendar/88
 10458/cheese-omelet-toast-peaches-milk
DTSTART:20251211T150000Z
DTEND:20251211T153000Z
END:VEVENT
END:VCALENDAR
