BEGIN:VCALENDAR
VERSION:2.0
PRODID:SchoolNow
CALSCALE:GREGORIAN
BEGIN:VEVENT
UID:997e2666-cae9-11f0-b65d-02af76d80f6f
DTSTAMP:20251126T170149Z
SUMMARY:Waffles\,  Strawberry Cups\, Milk
URL;VALUE=URI:https://www.ronank12.edu/departments/food-service/calendar/88
 10459/waffles-strawberry-cups-milk
DTSTART:20251212T150000Z
DTEND:20251212T153000Z
END:VEVENT
END:VCALENDAR
