BEGIN:VCALENDAR
VERSION:2.0
PRODID:SchoolNow
CALSCALE:GREGORIAN
BEGIN:VEVENT
UID:af942e32-cae9-11f0-9548-02ea71babd91
DTSTAMP:20251126T170227Z
SUMMARY:Cold Cereal\,  Chocolate Muffin\,  Applesauce Cups\,  Milk
URL;VALUE=URI:https://www.ronank12.edu/departments/food-service/calendar/88
 10460/cold-cereal-chocolate-muffin-applesauce-cups-milk
DTSTART:20251215T150000Z
DTEND:20251215T153000Z
END:VEVENT
END:VCALENDAR
