BEGIN:VCALENDAR
VERSION:2.0
PRODID:SchoolNow
CALSCALE:GREGORIAN
BEGIN:VEVENT
UID:c134de20-cae9-11f0-8fb8-02af76d80f6f
DTSTAMP:20251126T170256Z
SUMMARY:Pancake on a Stick\,  Peaches\,  Milk
URL;VALUE=URI:https://www.ronank12.edu/departments/food-service/calendar/88
 10461/pancake-on-a-stick-peaches-milk
DTSTART:20251216T150000Z
DTEND:20251216T153000Z
END:VEVENT
END:VCALENDAR
