BEGIN:VCALENDAR
VERSION:2.0
PRODID:SchoolNow
CALSCALE:GREGORIAN
BEGIN:VEVENT
UID:d80cee80-cae9-11f0-a0ab-0a58a9feac02
DTSTAMP:20251126T170334Z
SUMMARY:French Toast\,  Sticks  Pears\,  Milk
URL;VALUE=URI:https://www.ronank12.edu/departments/food-service/calendar/88
 10462/french-toast-sticks-pears-milk
DTSTART:20251217T150000Z
DTEND:20251217T153000Z
END:VEVENT
END:VCALENDAR
