BEGIN:VCALENDAR
VERSION:2.0
PRODID:SchoolNow
CALSCALE:GREGORIAN
BEGIN:VEVENT
UID:edf90f8a-cae9-11f0-9504-0a58a9feac02
DTSTAMP:20251126T170411Z
SUMMARY:Sausage Muffin Sandwich Or Cold Cereal\,  Juice\, Craisins\,  Milk
URL;VALUE=URI:https://www.ronank12.edu/departments/food-service/calendar/88
 10463/sausage-muffin-sandwich-or-cold-cereal-juice-craisins-milk
DTSTART:20251218T150000Z
DTEND:20251218T153000Z
END:VEVENT
END:VCALENDAR
