BEGIN:VCALENDAR
VERSION:2.0
PRODID:SchoolNow
CALSCALE:GREGORIAN
BEGIN:VEVENT
UID:016c4e92-caea-11f0-a4ef-0e8f1451c9fd
DTSTAMP:20251126T170444Z
SUMMARY:Pancakes\,  Applesauce Cups\,  Milk
URL;VALUE=URI:https://www.ronank12.edu/departments/food-service/calendar/88
 10464/pancakes-applesauce-cups-milk
DTSTART:20251219T150000Z
DTEND:20251219T153000Z
END:VEVENT
END:VCALENDAR
