BEGIN:VCALENDAR
VERSION:2.0
PRODID:SchoolNow
CALSCALE:GREGORIAN
BEGIN:VEVENT
UID:1b0befa6-caea-11f0-a88f-0a58a9feac02
DTSTAMP:20251126T170527Z
SUMMARY:Strawberry Bagels\,  Juice\,  Craisins\,  Milk
URL;VALUE=URI:https://www.ronank12.edu/departments/food-service/calendar/88
 10465/strawberry-bagels-juice-craisins-milk
DTSTART:20251222T150000Z
DTEND:20251222T153000Z
END:VEVENT
END:VCALENDAR
