BEGIN:VCALENDAR
VERSION:2.0
PRODID:SchoolNow
CALSCALE:GREGORIAN
BEGIN:VEVENT
UID:388e2bca-caea-11f0-8998-0a58a9feac02
DTSTAMP:20251126T170707Z
SUMMARY:Early Out - Maple Bar\,  String Cheese\,  Mandarin Orange\,  Milk
URL;VALUE=URI:https://www.ronank12.edu/departments/food-service/calendar/88
 10466/early-out-maple-bar-string-cheese-mandarin-orange-milk
DTSTART:20251223T150000Z
DTEND:20251223T153000Z
END:VEVENT
END:VCALENDAR
