BEGIN:VCALENDAR
VERSION:2.0
PRODID:SchoolNow
CALSCALE:GREGORIAN
BEGIN:VEVENT
UID:a0cd29de-caea-11f0-8d92-0a58a9feac02
DTSTAMP:20251126T171915Z
SUMMARY:Meal Pickup PES & RMS  11:30-1:00 for All Children - No School
URL;VALUE=URI:https://www.ronank12.edu/departments/food-service/calendar/88
 10467/no-school-meal-pickup-pes-rms-11-30-1-00-for-all-children
DTSTART:20251224T183000Z
DTEND:20251224T200000Z
END:VEVENT
END:VCALENDAR
