BEGIN:VCALENDAR
VERSION:2.0
PRODID:SchoolNow
CALSCALE:GREGORIAN
BEGIN:VEVENT
UID:c35279d2-caea-11f0-a678-02ea2a6aa5a3
DTSTAMP:20251126T171009Z
SUMMARY:No Meals: Closed for Christmas
URL;VALUE=URI:https://www.ronank12.edu/departments/food-service/calendar/88
 10468/no-meals-closed-for-christmas
DTSTART:20251225T150000Z
DTEND:20251226T230000Z
END:VEVENT
END:VCALENDAR
