BEGIN:VCALENDAR
VERSION:2.0
PRODID:SchoolNow
CALSCALE:GREGORIAN
BEGIN:VEVENT
UID:96792b44-caeb-11f0-a8ae-0a58a9feac02
DTSTAMP:20251126T171603Z
SUMMARY:Meal Pickup: RMS & PES 11:30-1:00 for All Children
URL;VALUE=URI:https://www.ronank12.edu/departments/food-service/calendar/88
 10469/meal-pickup-rms-pes-11-30-1-00-for-all-children
DTSTART:20251229T183000Z
DTEND:20251231T200000Z
END:VEVENT
END:VCALENDAR
