BEGIN:VCALENDAR
VERSION:2.0
PRODID:SchoolNow
CALSCALE:GREGORIAN
BEGIN:VEVENT
UID:b697ae6e-caeb-11f0-a146-02ea2a6aa5a3
DTSTAMP:20251126T171657Z
SUMMARY:No Meals: New Year Holiday
URL;VALUE=URI:https://www.ronank12.edu/departments/food-service/calendar/88
 10470/no-meals-new-year-holiday
DTSTART:20260101T150000Z
DTEND:20260102T230000Z
END:VEVENT
END:VCALENDAR
