BEGIN:VCALENDAR
VERSION:2.0
PRODID:SchoolNow
CALSCALE:GREGORIAN
BEGIN:VEVENT
UID:52d35d3c-caec-11f0-b8bf-02a24fa18703
DTSTAMP:20251126T172119Z
SUMMARY:Cream of Potato w/Ham Soup\,  Cheesy Breadstick\,  Celery\,  Apples
 auce\, Milk
URL;VALUE=URI:https://www.ronank12.edu/departments/food-service/calendar/88
 10471/cream-of-potato-w-ham-soup-cheesy-breadstick-celery-applesauce-milk
DTSTART:20251208T173000Z
DTEND:20251208T193000Z
END:VEVENT
END:VCALENDAR
