BEGIN:VCALENDAR
VERSION:2.0
PRODID:SchoolNow
CALSCALE:GREGORIAN
BEGIN:VEVENT
UID:3a8ffcc0-caed-11f0-8e09-0a58a9feac02
DTSTAMP:20251126T172748Z
SUMMARY:Chicken Strips\,  Mashed Potatoes/Gravy\,  Roasted\, Chick Peas\,  
 Mixed Fruit\, Roll\,  Milk
URL;VALUE=URI:https://www.ronank12.edu/departments/food-service/calendar/88
 10472/chicken-strips-mashed-potatoes-gravy-roasted-chick-peas-mixed-fruit-
 roll-milk
DTSTART:20251209T173000Z
DTEND:20251209T193000Z
END:VEVENT
END:VCALENDAR
