BEGIN:VCALENDAR
VERSION:2.0
PRODID:SchoolNow
CALSCALE:GREGORIAN
BEGIN:VEVENT
UID:51cba876-caed-11f0-accf-02343ccddbd9
DTSTAMP:20251126T172827Z
SUMMARY:Orange Chicken  on Rice\,  Baby Carrots\, Broccoli\, Milk\,  Mandar
 in Oranges
URL;VALUE=URI:https://www.ronank12.edu/departments/food-service/calendar/88
 10473/orange-chicken-on-rice-baby-carrots-broccoli-milk-mandarin-oranges
DTSTART:20251210T173000Z
DTEND:20251210T193000Z
END:VEVENT
END:VCALENDAR
