BEGIN:VCALENDAR
VERSION:2.0
PRODID:SchoolNow
CALSCALE:GREGORIAN
BEGIN:VEVENT
UID:69aae736-caed-11f0-be76-0a58a9feac02
DTSTAMP:20251126T172907Z
SUMMARY:Spaghetti\,  Tossed Salad\,  Pears\,  Garlic Roll\, Milk
URL;VALUE=URI:https://www.ronank12.edu/departments/food-service/calendar/88
 10474/spaghetti-tossed-salad-pears-garlic-roll-milk
DTSTART:20251211T173000Z
DTEND:20251211T193000Z
END:VEVENT
END:VCALENDAR
