BEGIN:VCALENDAR
VERSION:2.0
PRODID:SchoolNow
CALSCALE:GREGORIAN
BEGIN:VEVENT
UID:80f148ea-caed-11f0-a552-0a58a9feac02
DTSTAMP:20251126T172946Z
SUMMARY:Cheese Burger  on a Bun\, Fries\, Tomato Pickles\,  Apple Crisp\, M
 ilk
URL;VALUE=URI:https://www.ronank12.edu/departments/food-service/calendar/88
 10475/cheese-burger-on-a-bun-fries-tomato-pickles-apple-crisp-milk
DTSTART:20251212T173000Z
DTEND:20251212T193000Z
END:VEVENT
END:VCALENDAR
