BEGIN:VCALENDAR
VERSION:2.0
PRODID:SchoolNow
CALSCALE:GREGORIAN
BEGIN:VEVENT
UID:94f21a04-caed-11f0-8922-02ea2a6aa5a3
DTSTAMP:20251126T173020Z
SUMMARY:Sloppy Joe on a Bun\,  French Fries\,  Corn\, Orange Slices\,  Milk
URL;VALUE=URI:https://www.ronank12.edu/departments/food-service/calendar/88
 10476/sloppy-joe-on-a-bun-french-fries-corn-orange-slices-milk
DTSTART:20251215T173000Z
DTEND:20251215T193000Z
END:VEVENT
END:VCALENDAR
