BEGIN:VCALENDAR
VERSION:2.0
PRODID:SchoolNow
CALSCALE:GREGORIAN
BEGIN:VEVENT
UID:a5cc16a4-caed-11f0-8011-02343ccddbd9
DTSTAMP:20251126T173048Z
SUMMARY:Pepperoni Rippers\,  Tossed Salad\,  Celery\,  Pineapple\, Milk
URL;VALUE=URI:https://www.ronank12.edu/departments/food-service/calendar/88
 10477/pepperoni-rippers-tossed-salad-celery-pineapple-milk
DTSTART:20251216T173000Z
DTEND:20251216T193000Z
END:VEVENT
END:VCALENDAR
