BEGIN:VCALENDAR
VERSION:2.0
PRODID:SchoolNow
CALSCALE:GREGORIAN
BEGIN:VEVENT
UID:b962acb4-caed-11f0-b28f-02a24fa18703
DTSTAMP:20251126T173121Z
SUMMARY:Chicken Noodle Soup\,  Cheesy Breadstick\,  Baby Carrots\,  Strawbe
 rry Cup\, Milk
URL;VALUE=URI:https://www.ronank12.edu/departments/food-service/calendar/88
 10478/chicken-noodle-soup-cheesy-breadstick-baby-carrots-strawberry-cup-mi
 lk
DTSTART:20251217T173000Z
DTEND:20251217T193000Z
END:VEVENT
END:VCALENDAR
