BEGIN:VCALENDAR
VERSION:2.0
PRODID:SchoolNow
CALSCALE:GREGORIAN
BEGIN:VEVENT
UID:cd77ee58-caed-11f0-bfcb-0a58a9feac02
DTSTAMP:20251126T173155Z
SUMMARY:Beef Olay Salad\,  Lettuce\, Salsa\,  Sliced Apples\,  Roll\, Milk
URL;VALUE=URI:https://www.ronank12.edu/departments/food-service/calendar/88
 10479/beef-olay-salad-lettuce-salsa-sliced-apples-roll-milk
DTSTART:20251218T173000Z
DTEND:20251218T193000Z
END:VEVENT
END:VCALENDAR
