BEGIN:VCALENDAR
VERSION:2.0
PRODID:SchoolNow
CALSCALE:GREGORIAN
BEGIN:VEVENT
UID:e0ec120c-caed-11f0-922e-0affdcfcd8a3
DTSTAMP:20251126T173227Z
SUMMARY:Cold Turkey and Cheese Sandwich\,  Lettuce\, Sliced Tomato\,  Peach
 es\, Milk
URL;VALUE=URI:https://www.ronank12.edu/departments/food-service/calendar/88
 10480/cold-turkey-and-cheese-sandwich-lettuce-sliced-tomato-peaches-milk
DTSTART:20251219T173000Z
DTEND:20251219T193000Z
END:VEVENT
END:VCALENDAR
