BEGIN:VCALENDAR
VERSION:2.0
PRODID:SchoolNow
CALSCALE:GREGORIAN
BEGIN:VEVENT
UID:f26c7418-caed-11f0-a398-0a58a9feac02
DTSTAMP:20251126T173257Z
SUMMARY:Pepperoni  Hot Pockets\, Tossed Salad\,  Carrots\,  Pineapple\, Mil
 k
URL;VALUE=URI:https://www.ronank12.edu/departments/food-service/calendar/88
 10481/pepperoni-hot-pockets-tossed-salad-carrots-pineapple-milk
DTSTART:20251222T173000Z
DTEND:20251222T193000Z
END:VEVENT
END:VCALENDAR
