BEGIN:VCALENDAR
VERSION:2.0
PRODID:SchoolNow
CALSCALE:GREGORIAN
BEGIN:VEVENT
UID:09acf7e2-caee-11f0-8030-0a58a9feac02
DTSTAMP:20251126T173336Z
SUMMARY:P.B. & Jelly Uncrustable\,  String Cheese\,  Carrots\, Craisins\,  
 Chocolate Pudding Cups\, Milk
URL;VALUE=URI:https://www.ronank12.edu/departments/food-service/calendar/88
 10482/p-b-jelly-uncrustable-string-cheese-carrots-craisins-chocolate-puddi
 ng-cups-milk
DTSTART:20251223T173000Z
DTEND:20251223T193000Z
END:VEVENT
END:VCALENDAR
