BEGIN:VCALENDAR
VERSION:2.0
PRODID:SchoolNow
CALSCALE:GREGORIAN
BEGIN:VEVENT
UID:a71499ce-e50e-11f0-8872-0affef73b657
DTSTAMP:20251229T233234Z
SUMMARY:Cold Cereal\, Nutri Grain Bar\, Juice\, Craisins\, Milk
URL;VALUE=URI:https://www.ronank12.edu/departments/food-service/calendar/88
 27631/cold-cereal-nutri-grain-bar-juice-craisins-milk
DTSTART:20260105T150000Z
DTEND:20260105T153000Z
END:VEVENT
END:VCALENDAR
