BEGIN:VCALENDAR
VERSION:2.0
PRODID:SchoolNow
CALSCALE:GREGORIAN
BEGIN:VEVENT
UID:a714e29e-e50e-11f0-832b-0affef73b657
DTSTAMP:20251229T233234Z
SUMMARY:Beef A Roni Soup\, Cheese Filled Breadstick\, Baby Carrots\, Apples
 auce\, Milk
URL;VALUE=URI:https://www.ronank12.edu/departments/food-service/calendar/88
 27632/beef-a-roni-soup-cheese-filled-breadstick-baby-carrots-applesauce-mi
 lk
DTSTART:20260105T173000Z
DTEND:20260105T193000Z
END:VEVENT
END:VCALENDAR
