BEGIN:VCALENDAR
VERSION:2.0
PRODID:SchoolNow
CALSCALE:GREGORIAN
BEGIN:VEVENT
UID:a714e6a4-e50e-11f0-9ac0-0affef73b657
DTSTAMP:20251229T233234Z
SUMMARY:Pancake on a Stick\, Applesauce\, Milk
URL;VALUE=URI:https://www.ronank12.edu/departments/food-service/calendar/88
 27633/pancake-on-a-stick-applesauce-milk
DTSTART:20260106T150000Z
DTEND:20260106T153000Z
END:VEVENT
END:VCALENDAR
