BEGIN:VCALENDAR
VERSION:2.0
PRODID:SchoolNow
CALSCALE:GREGORIAN
BEGIN:VEVENT
UID:a714e924-e50e-11f0-bc27-0affef73b657
DTSTAMP:20251229T233234Z
SUMMARY:Beef Burrito\, Refried Beans\, Green Beans\, Chips\, Pears\, Milk
URL;VALUE=URI:https://www.ronank12.edu/departments/food-service/calendar/88
 27634/beef-burrito-refried-beans-green-beans-chips-pears-milk
DTSTART:20260106T173000Z
DTEND:20260106T193000Z
END:VEVENT
END:VCALENDAR
