BEGIN:VCALENDAR
VERSION:2.0
PRODID:SchoolNow
CALSCALE:GREGORIAN
BEGIN:VEVENT
UID:a714eb40-e50e-11f0-8caa-0affef73b657
DTSTAMP:20251229T233234Z
SUMMARY:Banana Bread\, Peaches\, Milk
URL;VALUE=URI:https://www.ronank12.edu/departments/food-service/calendar/88
 27635/banana-bread-peaches-milk
DTSTART:20260107T150000Z
DTEND:20260107T153000Z
END:VEVENT
END:VCALENDAR
