BEGIN:VCALENDAR
VERSION:2.0
PRODID:SchoolNow
CALSCALE:GREGORIAN
BEGIN:VEVENT
UID:a714ed34-e50e-11f0-a66b-0affef73b657
DTSTAMP:20251229T233234Z
SUMMARY:Chicken Patty\, Potato Wedges\, Baby Carrots\, Mandarin Oranges\, M
 ilk
URL;VALUE=URI:https://www.ronank12.edu/departments/food-service/calendar/88
 27636/chicken-patty-potato-wedges-baby-carrots-mandarin-oranges-milk
DTSTART:20260107T173000Z
DTEND:20260107T193000Z
END:VEVENT
END:VCALENDAR
