BEGIN:VCALENDAR
VERSION:2.0
PRODID:SchoolNow
CALSCALE:GREGORIAN
BEGIN:VEVENT
UID:a714ef32-e50e-11f0-ab8f-0affef73b657
DTSTAMP:20251229T233234Z
SUMMARY:Cheese Omelet\, Toast\, Juice\, Banana Chips\, Milk
URL;VALUE=URI:https://www.ronank12.edu/departments/food-service/calendar/88
 27637/cheese-omelet-toast-juice-banana-chips-milk
DTSTART:20260108T150000Z
DTEND:20260108T153000Z
END:VEVENT
END:VCALENDAR
