BEGIN:VCALENDAR
VERSION:2.0
PRODID:SchoolNow
CALSCALE:GREGORIAN
BEGIN:VEVENT
UID:a714f11c-e50e-11f0-9311-0affef73b657
DTSTAMP:20251229T233234Z
SUMMARY:Beef Stroganoff on Pasta\, Tossed Salad\, Mixed Fruit\, Roll\, Milk
URL;VALUE=URI:https://www.ronank12.edu/departments/food-service/calendar/88
 27638/beef-stroganoff-on-pasta-tossed-salad-mixed-fruit-roll-milk
DTSTART:20260108T173000Z
DTEND:20260108T193000Z
END:VEVENT
END:VCALENDAR
