BEGIN:VCALENDAR
VERSION:2.0
PRODID:SchoolNow
CALSCALE:GREGORIAN
BEGIN:VEVENT
UID:a714f37e-e50e-11f0-a9e7-0affef73b657
DTSTAMP:20251229T233234Z
SUMMARY:Strawberry Bagel\, Peaches\, Milk
URL;VALUE=URI:https://www.ronank12.edu/departments/food-service/calendar/88
 27639/strawberry-bagel-peaches-milk
DTSTART:20260109T150000Z
DTEND:20260109T153000Z
END:VEVENT
END:VCALENDAR
