BEGIN:VCALENDAR
VERSION:2.0
PRODID:SchoolNow
CALSCALE:GREGORIAN
BEGIN:VEVENT
UID:a714f662-e50e-11f0-9158-0affef73b657
DTSTAMP:20251229T233234Z
SUMMARY:Teriyaki Beef Bites\, Potato Wedges\, Broccoli\, Pears\, Cookie\, M
 ilk
URL;VALUE=URI:https://www.ronank12.edu/departments/food-service/calendar/88
 27640/teriyaki-beef-bites-potato-wedges-broccoli-pears-cookie-milk
DTSTART:20260109T173000Z
DTEND:20260109T193000Z
END:VEVENT
END:VCALENDAR
