BEGIN:VCALENDAR
VERSION:2.0
PRODID:SchoolNow
CALSCALE:GREGORIAN
BEGIN:VEVENT
UID:a714f892-e50e-11f0-9252-0affef73b657
DTSTAMP:20251229T233234Z
SUMMARY:French Toast\, Juice\, Craisins\, Milk
URL;VALUE=URI:https://www.ronank12.edu/departments/food-service/calendar/88
 27641/french-toast-juice-craisins-milk
DTSTART:20260112T150000Z
DTEND:20260112T153000Z
END:VEVENT
END:VCALENDAR
