BEGIN:VCALENDAR
VERSION:2.0
PRODID:SchoolNow
CALSCALE:GREGORIAN
BEGIN:VEVENT
UID:a714fa90-e50e-11f0-a76e-0affef73b657
DTSTAMP:20251229T233234Z
SUMMARY:Corn Dog\, Tater Tots\, Pea Salad\, Peaches\, Rice\, Milk
URL;VALUE=URI:https://www.ronank12.edu/departments/food-service/calendar/88
 27642/corn-dog-tater-tots-pea-salad-peaches-rice-milk
DTSTART:20260112T173000Z
DTEND:20260112T193000Z
END:VEVENT
END:VCALENDAR
