BEGIN:VCALENDAR
VERSION:2.0
PRODID:SchoolNow
CALSCALE:GREGORIAN
BEGIN:VEVENT
UID:a714fc7a-e50e-11f0-bcb7-0affef73b657
DTSTAMP:20251229T233234Z
SUMMARY:Pancakes\, Pears\, Milk
URL;VALUE=URI:https://www.ronank12.edu/departments/food-service/calendar/88
 27643/pancakes-pears-milk
DTSTART:20260113T150000Z
DTEND:20260113T153000Z
END:VEVENT
END:VCALENDAR
