BEGIN:VCALENDAR
VERSION:2.0
PRODID:SchoolNow
CALSCALE:GREGORIAN
BEGIN:VEVENT
UID:a714fe8c-e50e-11f0-bdd8-0affef73b657
DTSTAMP:20251229T233234Z
SUMMARY:Breaded Steak\, Mashed Potatoes\, Country Gravy\, Pea Salad\, Roll\
 , Craisins\, Milk
URL;VALUE=URI:https://www.ronank12.edu/departments/food-service/calendar/88
 27644/breaded-steak-mashed-potatoes-country-gravy-pea-salad-roll-craisins-
 milk
DTSTART:20260113T173000Z
DTEND:20260113T193000Z
END:VEVENT
END:VCALENDAR
