BEGIN:VCALENDAR
VERSION:2.0
PRODID:SchoolNow
CALSCALE:GREGORIAN
BEGIN:VEVENT
UID:a715006c-e50e-11f0-9962-0affef73b657
DTSTAMP:20251229T233234Z
SUMMARY:Biscuits and Gravy\, Mixed Fruit\, Milk
URL;VALUE=URI:https://www.ronank12.edu/departments/food-service/calendar/88
 27645/biscuits-and-gravy-mixed-fruit-milk
DTSTART:20260114T150000Z
DTEND:20260114T153000Z
END:VEVENT
END:VCALENDAR
