BEGIN:VCALENDAR
VERSION:2.0
PRODID:SchoolNow
CALSCALE:GREGORIAN
BEGIN:VEVENT
UID:a7150292-e50e-11f0-a852-0affef73b657
DTSTAMP:20251229T233234Z
SUMMARY:Cold Turkey and Cheese Sandwich\, Lettuce\, Peaches\, Chocolate Hum
 mus\, Scooby Doo’s\, Milk
URL;VALUE=URI:https://www.ronank12.edu/departments/food-service/calendar/88
 27646/cold-turkey-and-cheese-sandwich-lettuce-peaches-chocolate-hummus-sco
 oby-doo-s-milk
DTSTART:20260114T173000Z
DTEND:20260114T193000Z
END:VEVENT
END:VCALENDAR
